Workbook

Sheet Que2
B1: Formula | C1: Dunkin Brands Group, Inc. (DNKN) | D1: Chipotle Mexican Grill, Inc. (CMG)
A2: Cash Conversion Cycle | B2: DIO + DSO - DPO | C2: =C3+C4-C5 -> -8.98 | D2: =D3+D4-D5 -> -5.73
A3: DIO - Days Inventory Outstanding | B3: Average Inventory/Cost of Sales × 365 | D3: =((CMG!B35+CMG!C35)/2)/SUM(CMG!B6:B7)*365 -> 2.58
A4: DSO – Days Sales Outstanding | B4: Average Accounts Receivable/Total Credit Sales × 365 | C4: =(DNKN!B47+DNKN!C47)/2/DNKN!B4*365 -> 29.55 | D4: =(CMG!B34+CMG!C34)/2/CMG!B4*365 -> 3.86
A5: DPO – Days Payable Outstanding | B5: Average Accounts Payable/Cost of Sales × 365 | C5: =(DNKN!B62+DNKN!C62)/2/SUM(DNKN!B11:B12)*365 -> 38.53 | D5: =(CMG!B46+CMG!C46)/2/SUM(CMG!B6:B7)*365 -> 12.17
A6: Liquidity
A7: Current Ratio | B7: Current Assets/Current Liabilities | C7: =DNKN!B52/DNKN!B66 -> 2.79 | D7: =CMG!B39/CMG!B51 -> 1.81
A8: Quick Ratio | B8: (Current Assets – Inventory)/Current Liabilities | C8: =DNKN!B52/DNKN!B66 -> 2.79 | D8: =(CMG!B39-CMG!B35)/CMG!B51 -> 1.76
A9: Long Term Financing (Long Term Debt) | C9: =DNKN!B73 -> 3,457,047 | D9: =SUM(CMG!B53:B55) -> 374,189
A10: Short Term Financing (Current Liabilities) | C10: =DNKN!B66 -> 471,890 | D10: =CMG!B51 -> 449,990

Sheet DNKN
A1: Consolidated Statements of Operations - USD ($) | B1: 12 Months Ended
A2: $ in Thousands | B2: Dec. 30, 2017 | C2: Dec. 31, 2016 | D2: Dec. 26, 2015
A3: Revenues:
A4: Franchise fees and royalty income | B4: 592689 | C4: 549571 | D4: 513222
A5: Rental income | B5: 104643 | C5: 101020 | D5: 100422
A6: Sales of ice cream and other products | B6: 110659 | C6: 114857 | D6: 115252
A7: Sales at company-operated restaurants | B7: 0 | C7: 11975 | D7: 28340
A8: Other revenues | B8: 52510 | C8: 51466 | D8: 53697
A9: Total revenues | B9: 860501 | C9: 828889 | D9: 810933
A10: Operating costs and expenses:
A11: Occupancy expenses—franchised restaurants | B11: 60301 | C11: 57409 | D11: 54611
A12: Cost of ice cream and other products | B12: 77012 | C12: 77608 | D12: 76877
A13: Company-operated restaurant expenses | B13: 0 | C13: 13591 | D13: 29900
A14: General and administrative expenses, net | B14: 248975 | C14: 246814 | D14: 243796
A15: Depreciation | B15: 20084 | C15: 20458 | D15: 20556
A16: Amortization of other intangible assets | B16: 21335 | C16: 22079 | D16: 24688
A17: Long-lived asset impairment charges | B17: 1617 | C17: 149 | D17: 623
A18: Total operating costs and expenses | B18: 429324 | C18: 438108 | D18: 451051
A19: Equity Method Investment, Summarized Financial Information, Income Statement [Abstract]
A20: Net income, excluding impairment | B20: 15198 | C20: 14552 | D20: 12555
A21: Impairment charge | B21: 0 | C21: 0 | D21: -54300
A22: Net income (loss) of equity method investments | B22: 15198 | C22: 14552 | D22: -41745
A23: Other operating income, net | B23: 627 | C23: 9381 | D23: 1430
A24: Operating income | B24: 447002 | C24: 414714 | D24: 319567
A25: Other income (expense), net:
A26: Interest income | B26: 3313 | C26: 582 | D26: 424
A27: Interest expense | B27: -104423 | C27: -100852 | D27: -96765
A28: Loss on debt extinguishment and refinancing transactions | B28: -6996 | C28: 0 | D28: -20554
A29: Other gains (losses), net | B29: 391 | C29: -1195 | D29: -1084
A30: Total other expense, net | B30: -107715 | C30: -101465 | D30: -117979
A31: Income before income taxes | B31: 339287 | C31: 313249 | D31: 201588
A32: Provision (benefit) for income taxes | B32: -11622 | C32: 117673 | D32: 96359
A33: Net income including noncontrolling interests | B33: 350909 | C33: 195576 | D33: 105229
A34: Net income attributable to noncontrolling interests | B34: 0 | C34: 0 | D34: 2
A35: Net income attributable to Dunkin’ Brands | B35: 350909 | C35: 195576 | D35: 105227
A36: Earnings per share:
A37: Common-basic (in dollars per share) | B37: 3.86 | C37: 2.14 | D37: 1.1
A38: Common-diluted (in dollars per share) | B38: 3.8 | C38: 2.11 | D38: 1.08
A39: Cash dividends declared per common share (in dollars per share) | B39: 1.29 | C39: 1.2 | D39: 1.06
A42: Consolidated Balance Sheets - USD ($) | B42: Dec. 30, 2017 | C42: Dec. 31, 2016
...

Sheet CMG
A1: Consolidated Statement of Income - USD ($) | B1: 12 Months Ended
A2: shares in Thousands, $ in Thousands | B2: Dec. 31, 2018 | C2: Dec. 31, 2017 | D2: Dec. 31, 2016
A3: Consolidated Statement of Income [Abstract]
A4: Revenue | B4: 4864985 | C4: 4476412 | D4: 3904384
A5: Restaurant operating costs (exclusive of depreciation and amortization shown separately below):
A6: Food, beverage and packaging | B6: 1600760 | C6: 1535428 | D6: 1365580
A7: Labor | B7: 1326079 | C7: 1205992 | D7: 1105001
A8: Occupancy | B8: 347123 | C8: 327132 | D8: 293636
A9: Other operating costs | B9: 680031 | C9: 651644 | D9: 641953
A10: General and administrative expenses | B10: 375460 | C10: 296388 | D10: 276240
A11: Depreciation and amortization | B11: 201979 | C11: 163348 | D11: 146368
A12: Pre-opening costs | B12: 8546 | C12: 12341 | D12: 17162
A13: Impairment, closure costs, and asset disposals | B13: 66639 | C13: 13345 | D13: 23877
A14: Total operating expenses | B14: 4606617 | C14: 4205618 | D14: 3869817
A15: Income from operations | B15: 258368 | C15: 270794 | D15: 34567
A16: Interest and other income, net | B16: 10068 | C16: 4949 | D16: 4172
A17: Income before income taxes | B17: 268436 | C17: 275743 | D17: 38739
... A19: Net income | B19: 176553 | C19: 176253 | D19: 22938
A20: Earnings per share:
A21: Basic | B21: 6.35 | C21: 6.19 | D21: 0.78
A22: Diluted | B22: 6.31 | C22: 6.17 | D22: 0.77
A23: Weighted-average common shares outstanding:
A24: Basic | B24: 27823 | C24: 28491 | D24: 29265
A25: Diluted | B25: 27962 | C25: 28561 | D25: 29770
A30: Consolidated Balance Sheet - USD ($) | B30: Dec. 31, 2018 | C30: Dec. 31, 2017
A31: $ in Thousands
A32: Current assets:
A33: Cash and cash equivalents | B33: 249953 | C33: 184569
A34: Accounts receivable | B34: 62312 | C34: 40453
A35: Inventory | B35: 21555 | C35: 19860
A36: Prepaid expenses and other current assets | B36: 54129 | C36: 50918
A37: Income tax receivable | C37: 9353
A38: Investments | B38: 426845 | C38: 324382
A39: Total current assets | B39: 814794 | C39: 629535
A40: Leasehold improvements, property and equipment, net | B40: 1379254 | C40: 1338366
A41: Restricted cash | B41: 30199 | C41: 29601
A42: Other assets | B42: 19332 | C42: 26251
A43: Goodwill | B43: 21939 | C43: 21939
A44: Total assets | B44: 2265518 | C44: 2045692
A45: Current liabilities:
...

Sheet Que5
A1: Current Asset Level | B1: Conservative | C1: Conservative | D1: Aggressive | E1: Aggressive
A2: Short Term Debt | B2: Aggressive | C2: Conservative | D2: Aggressive | E2: Conservative
A3: Fixed Assets | B3: 10000000 | C3: 10000000 | D3: 10000000 | E3: 10000000
A4: Current Assets | B4: 3000000 | C4: 3000000 | D4: 5000000 | E4: 5000000
A5: Total Assets | B5: 13000000 | C5: 13000000 | D5: 15000000 | E5: 15000000
A6: Short Term Debt | B6: 3120000 | C6: 1040000 | D6: 3600000 | E6: 1200000
A7: Long Term Debt | B7: =B9-B8-B6 -> $2,080,000 | C7: =C9-C8-C6 -> $4,160,000 | D7: =D9-D8-D6 -> $2,400,000 | E7: =E9-E8-E6 -> $4,800,000
A8: Equity | B8: 7800000 | C8: 7800000 | D8: 9000000 | E8: 9000000
A9: Total Equity and Liabilities | B9: =B5 -> $13,000,000 | C9: =C5 -> $13,000,000 | D9: =D5 -> $15,000,000 | E9: =E5 -> $15,000,000
A10: Earnings before Interest and Taxes | B10: 1000000 | C10: 1000000 | D10: 1000000 | E10: 1000000
A11: Interest on Short Term Debt (@5%) | B11: =0.05*B6 -> $156,000 | C11: =0.05*C6 -> $52,000 | D11: =0.05*D6 -> $180,000 | E11: =0.05*E6 -> $60,000
A12: Interest on Long Term Debt (@10%) | B12: =0.1*B7 -> $208,000 | C12: =0.1*C7 -> $416,000 | D12: =0.1*D7 -> $240,000 | E12: =0.1*E7 -> $480,000
A13: Total Interest | B13: =SUM(B11:B12) -> $364,000 | C13: =SUM(C11:C12) -> $468,000 | D13: =SUM(D11:D12) -> $420,000 | E13: =SUM(E11:E12) -> $540,000
A14: Earnings after Interest before Taxes | B14: =B10-B13 -> $636,000 | C14: =C10-C13 -> $532,000 | D14: =D10-D13 -> $580,000 | E14: =E10-E13 -> $460,000
A15: Taxes (@25%) | B15: =0.25*B14 -> $159,000 | C15: =0.25*C14 -> $133,000 | D15: =0.25*D14 -> $145,000 | E15: =0.25*E14 -> $115,000
A16: Earnings after Interest and Tax | B16: =B14-B15 -> $477,000 | C16: =C14-C15 -> $399,000 | D16: =D14-D15 -> $435,000 | E16: =E14-E15 -> $345,000
A17: Return on Equity | B17: =B16/B8 -> 6.12% | C17: =C16/C8 -> 5.12% | D17: =D16/D8 -> 4.83% | E17: =E16/E8 -> 3.83%

Sheet Que6
A1: Equipment Cost | B1: 500000
A2: Shipping and Installation | B2: 100000
A3: Total Equipment Cost | B3: =SUM(B1:B2) -> $ 600,000.00
A4: Salvage Value | B4: 75000
A5: Annual Depreciation | B5: =(B3-B4)/6 -> $ 87,500.00
A7: Cashflow in Year 0
A8: Total Equipment Cost | B8: 600000
A9: Add Rise in Inventory | B9: 40000
A10: Less Rise in Accounts Payable | B10: 15000
A11: Total Cash Outflow | B11: =B8+B9-B10 -> $ 625,000.00
A14: WACC | B14: 0.12
A15: Years | B15: 0 | C15: 1 | D15: 2 | E15: 3 | F15: 4 | G15: 5 | H15: 6
A16: Unit Sales | C16: 200000 | D16: 200000 | E16: 200000 | F16: 200000 | G16: 200000 | H16: 200000
A17: Sales (@ $3 per unit) | C17: =C16*3 -> $ 600,000 | D17: =D16*3 -> $ 600,000 | E17: =E16*3 -> $ 600,000 | F17: =F16*3 -> $ 600,000 | G17: =G16*3 -> $ 600,000 | H17: =H16*3 -> $ 600,000
A18: Operating profit (@30% of sales) | C18: =0.3*C17 -> $ 180,000 | D18: =0.3*D17 -> $ 180,000 | E18: =0.3*E17 -> $ 180,000 | F18: =0.3*F17 -> $ 180,000 | G18: =0.3*G17 -> $ 180,000 | H18: =0.3*H17 -> $ 180,000
A19: Less Depreciation | C19: =$B$5 -> $ 87,500 | D19: =$B$5 -> $ 87,500 | E19: =$B$5 -> $ 87,500 | F19: =$B$5 -> $ 87,500 | G19: =$B$5 -> $ 87,500 | H19: =$B$5 -> $ 87,500
A20: Operating Profit after Depreciation | C20: =C18-C19 -> $ 92,500 | D20: =D18-D19 -> $ 92,500 | E20: =E18-E19 -> $ 92,500 | F20: =F18-F19 -> $ 92,500 | G20: =G18-G19 -> $ 92,500 | H20: =H18-H19 -> $ 92,500
A21: Tax (@30%) | C21: =0.3*C20 -> $ 27,750 | D21: =0.3*D20 -> $ 27,750 | E21: =0.3*E20 -> $ 27,750 | F21: =0.3*F20 -> $ 27,750 | G21: =0.3*G20 -> $ 27,750 | H21: =0.3*H20 -> $ 27,750
A22: Income after Tax | C22: =C20-C21 -> $ 64,750 | D22: =D20-D21 -> $ 64,750 | E22: =E20-E21 -> $ 64,750 | F22: =F20-F21 -> $ 64,750 | G22: =G20-G21 -> $ 64,750 | H22: =H20-H21 -> $ 64,750
A23: Add Depreciation | C23: =C19 -> $ 87,500 | D23: =D19 -> $ 87,500 | E23: =E19 -> $ 87,500 | F23: =F19 -> $ 87,500 | G23: =G19 -> $ 87,500 | H23: =H19 -> $ 87,500
A24: Salvage Value | H24: 75000
A25: Project Cashflows | B25: =-B11 -> $ (625,000) | C25: =SUM(C22:C24) -> $ 152,250 | D25: =SUM(D22:D24) -> $ 152,250 | E25: =SUM(E22:E24) -> $ 152,250 | F25: =SUM(F22:F24) -> $ 152,250 | G25: =SUM(G22:G24) -> $ 152,250 | H25: =SUM(H22:H24) -> $ 227,250
A26: Discounted Project Cashflows | B26: =B25/(1+$B$14)^B15 -> $ (625,000) | C26: =C25/(1+$B$14)^C15 -> $ 135,938 | D26: =D25/(1+$B$14)^D15 -> $ 121,373 | E26: =E25/(1+$B$14)^E15 -> $ 108,369 | F26: =F25/(1+$B$14)^F15 -> $ 96,758 | G26: =G25/(1+$B$14)^G15 -> $ 86,391 | H26: =H25/(1+$B$14)^H15 -> $ 115,132
A27: Net Present Value | B27: =SUM(B26:H26) -> $ 38,959
B29: Months | C29: Years
A30: Payback Period | B30: =48+(B11-SUM(C25:F25))/G25*12 -> 49.26 | C30: =B30/12 -> 4.11
A31: Internal Rate of Return | B31: =IRR(B26:H26) -> 1.85%

Sheet Que8
A1: Terms | B1: 2/10 Net 40
A3: Sales Increase | B3: 7000000
A4: Cash Discount (40% customers) | B4: =0.02*B3*0.4 -> $ 56,000.00
A5: Net Sales | B5: =B3-B4 -> $ 6,944,000.00
A6: Earnings at 35% (1-0.65) | B6: =0.35*B5 -> $ 2,430,400.00
A7: Additional Inventory | B7: 750000
A8: Bad Debts (@10%) | B8: =0.1*B3 -> $ 700,000.00
A9: Net Cashflow | B9: =B6-B7-B8 -> $ 980,400.00
A11: Average collection Period (Days) | B11: 60

Sheet Que9
A1: Net Income | B1: 300000000
A2: Outstanding Shares | B2: 30000000
A3: Earnings per Share | B3: =B1/B2 -> $ 10
A4: Market Price per Share | B4: 100
A5: Price Earning Ratio | B5: =B4/B3 -> 10
A6: Debt to Equity Ratio | B6: 0.8
A8: Increase in Retained Earnings | B8: =B1 -> $ 300,000,000
A9: Proportionate Increase in debt | B9: =B6*B8 -> $ 240,000,000
A10: Maximum Investment Funds Available | B10: =SUM(B8:B9) -> $ 540,000,000
A12: Planned Capital Expenditures | B12: 150000000
A13: Dividend | B13: =B1-B12 -> $ 150,000,000
A14: Dividend per share | B14: =B13/B2 -> $ 5.00
A15: Dividend Yield | B15: =B14/B4 -> 5%
A17: Dividend | B17: =B1 -> $ 300,000,000
A18: Dividend per share | B18: =B17/B2 -> $ 10.00
A19: Dividend Yield | B19: =B18/B4 -> 10%

Sheet Que10
A1: Annual Sales | B1: 600000000
A2: Daily Sales (365 Days) | B2: =B1/365 -> $ 1,643,835.62
A3: Days between Cheques | B3: 10
A4: Reduce float Days | B4: 4
A5: Compensating Balance | B5: 3000000
A6: Additional float due to reduction | B6: =B2*B4-B5 -> $ 3,575,342.47
A8: Cost | B8: 300000
A9: Additional fee | B9: =0.05%*B1 -> $ 300,000.00
A10: Total Cost | B10: =SUM(B8:B9) -> $ 600,000.00
A12: Labor cost reduction | B12: 200000
A13: Earnings on Investment (12%) | B13: =0.12*B6 -> $ 429,041.10
A14: Total Benefit | B14: =SUM(B12:B13) -> $ 629,041.10
A16: Net Benefit | B16: =B14-B10 -> $ 29,041.10
